BEGIN:VCALENDAR
PRODID:-//eluceo/ical//2.0/EN
VERSION:2.0
CALSCALE:GREGORIAN
BEGIN:VEVENT
UID:f94ec6a0e256eb6424b54b6628d5abca
DTSTAMP:20260425T121642Z
SUMMARY:Hands on! Clean up Day
DESCRIPTION:Website: https://www.igsu.ch/de/clean-up-day/clean-up-day/
URL:https://rotary-allschwil.ch/en/agenda/show/200988
DTSTART;TZID=Europe/Zurich:20250920T090000
DTEND;TZID=Europe/Zurich:20250920T110000
LOCATION:Allschwil
CATEGORIES:Rotary
END:VEVENT
BEGIN:VTIMEZONE
TZID:Europe/Zurich
BEGIN:DAYLIGHT
DTSTART:20250920T090000
TZNAME:CEST
TZOFFSETTO:+0200
TZOFFSETFROM:+0200
END:DAYLIGHT
END:VTIMEZONE
END:VCALENDAR
