BEGIN:VCALENDAR
PRODID:-//eluceo/ical//2.0/EN
VERSION:2.0
CALSCALE:GREGORIAN
BEGIN:VEVENT
UID:2b7e958de59960a187d39145f61578c8
DTSTAMP:20260424T122643Z
SUMMARY:Welt Polio Tag
DESCRIPTION:Site internet: https://www.endpolio.org/world-polio-day
URL:https://rotary-allschwil.ch/fr/agenda/show/156728
DTSTART;TZID=Europe/Zurich:20241024T000000
DTEND;TZID=Europe/Zurich:20241024T235500
LOCATION:Schweiz
CATEGORIES:Rotary
END:VEVENT
BEGIN:VTIMEZONE
TZID:Europe/Zurich
BEGIN:DAYLIGHT
DTSTART:20241024T000000
TZNAME:CEST
TZOFFSETTO:+0200
TZOFFSETFROM:+0200
END:DAYLIGHT
END:VTIMEZONE
END:VCALENDAR
