BEGIN:VCALENDAR
PRODID:-//eluceo/ical//2.0/EN
VERSION:2.0
CALSCALE:GREGORIAN
BEGIN:VEVENT
UID:51bbdc04db352b3bdf19cb8849d69dae
DTSTAMP:20260422T045001Z
SUMMARY:Plauderlunch
DESCRIPTION:Sito web: http://www.roessli-allschwil.ch
URL:https://rotary-allschwil.ch/it/agenda/show/127262
DTSTART;TZID=Europe/Zurich:20210705T120000
DTEND;TZID=Europe/Zurich:20210705T133000
LOCATION:Hotel Restaurant Rössli\, Dorfplatz 1\, 4123 Allschwil
CATEGORIES:Rotary
END:VEVENT
BEGIN:VTIMEZONE
TZID:Europe/Zurich
BEGIN:DAYLIGHT
DTSTART:20210705T120000
TZNAME:CEST
TZOFFSETTO:+0200
TZOFFSETFROM:+0200
END:DAYLIGHT
END:VTIMEZONE
END:VCALENDAR
