BEGIN:VCALENDAR
PRODID:-//eluceo/ical//2.0/EN
VERSION:2.0
CALSCALE:GREGORIAN
BEGIN:VEVENT
UID:4a4dd1c3383ba6c5259c7c06997d2f97
DTSTAMP:20260422T014730Z
SUMMARY:Kein Lunch (da Partneranlass am Dienstagabend)
DESCRIPTION:Sito web: http://www.roessli-allschwil.ch
URL:https://rotary-allschwil.ch/it/agenda/show/133291
DTSTART;TZID=Europe/Zurich:20211108T120000
DTEND;TZID=Europe/Zurich:20211108T120000
LOCATION:Hotel Restaurant Rössli\, Dorfplatz 1\, 4123 Allschwil
CATEGORIES:Rotary
END:VEVENT
BEGIN:VTIMEZONE
TZID:Europe/Zurich
BEGIN:STANDARD
DTSTART:20211108T120000
TZNAME:CET
TZOFFSETTO:+0100
TZOFFSETFROM:+0100
END:STANDARD
END:VTIMEZONE
END:VCALENDAR
