BEGIN:VCALENDAR
PRODID:-//eluceo/ical//2.0/EN
VERSION:2.0
CALSCALE:GREGORIAN
BEGIN:VEVENT
UID:0e8daa1701b074f27fe10c1f93fbbaa0
DTSTAMP:20260424T232143Z
SUMMARY:Weihnachtsanlass ABGESAGT
DESCRIPTION:Webbplats: https://www.ambiente-allschwil.ch/
URL:https://rotary-allschwil.ch/sv/agenda/show/125355
DTSTART;TZID=Europe/Zurich:20211210T183000
DTEND;TZID=Europe/Zurich:20211210T223000
LOCATION:Restaurant Ambiente\, Muesmattweg 33\, Allschwil
CATEGORIES:Rotary
END:VEVENT
BEGIN:VTIMEZONE
TZID:Europe/Zurich
BEGIN:STANDARD
DTSTART:20211210T183000
TZNAME:CET
TZOFFSETTO:+0100
TZOFFSETFROM:+0100
END:STANDARD
END:VTIMEZONE
END:VCALENDAR
