BEGIN:VCALENDAR
PRODID:-//eluceo/ical//2.0/EN
VERSION:2.0
CALSCALE:GREGORIAN
BEGIN:VEVENT
UID:023584f36aed94bd627177d9cbe1c762
DTSTAMP:20260420T070736Z
SUMMARY:Geschichte der Polizei und rechtliche Grenzen
DESCRIPTION:Webbplats: http://www.roessli-allschwil.ch\nTalare: Hauptmann B
 eat Loosli
URL:https://rotary-allschwil.ch/sv/agenda/show/127267
DTSTART;TZID=Europe/Zurich:20210830T120000
DTEND;TZID=Europe/Zurich:20210830T133000
LOCATION:Hotel Restaurant Rössli\, Dorfplatz 1\, 4123 Allschwil
CATEGORIES:Rotary
END:VEVENT
BEGIN:VTIMEZONE
TZID:Europe/Zurich
BEGIN:DAYLIGHT
DTSTART:20210830T120000
TZNAME:CEST
TZOFFSETTO:+0200
TZOFFSETFROM:+0200
END:DAYLIGHT
END:VTIMEZONE
END:VCALENDAR
