BEGIN:VCALENDAR
PRODID:-//eluceo/ical//2.0/EN
VERSION:2.0
CALSCALE:GREGORIAN
BEGIN:VEVENT
UID:54baf37658cf5c4cd9d27a5f01321656
DTSTAMP:20260420T070927Z
SUMMARY:Vortrag "Medizinische Einsätze in Uganda"
DESCRIPTION:Webbplats: http://www.roessli-allschwil.ch\nTalare: Prof. Dr. V
 erena Geissbühler\, RC Basel-Dreiländereck
URL:https://rotary-allschwil.ch/sv/agenda/show/127268
DTSTART;TZID=Europe/Zurich:20210913T120000
DTEND;TZID=Europe/Zurich:20210913T133000
LOCATION:Hotel Restaurant Rössli\, Dorfplatz 1\, 4123 Allschwil
CATEGORIES:Rotary
END:VEVENT
BEGIN:VTIMEZONE
TZID:Europe/Zurich
BEGIN:DAYLIGHT
DTSTART:20210913T120000
TZNAME:CEST
TZOFFSETTO:+0200
TZOFFSETFROM:+0200
END:DAYLIGHT
END:VTIMEZONE
END:VCALENDAR
