BEGIN:VCALENDAR
PRODID:-//eluceo/ical//2.0/EN
VERSION:2.0
CALSCALE:GREGORIAN
BEGIN:VEVENT
UID:550c37e72619545937f1fd99f4a45b5a
DTSTAMP:20260420T154023Z
SUMMARY:Hands on Stärnstunde
DESCRIPTION:
URL:https://rotary-allschwil.ch/sv/agenda/show/143105
DTSTART;TZID=Europe/Zurich:20220910T163000
DTEND;TZID=Europe/Zurich:20220910T220000
LOCATION:Zolli\, Haupteingang Bachletten
CATEGORIES:Rotary
END:VEVENT
BEGIN:VTIMEZONE
TZID:Europe/Zurich
BEGIN:DAYLIGHT
DTSTART:20220910T163000
TZNAME:CEST
TZOFFSETTO:+0200
TZOFFSETFROM:+0200
END:DAYLIGHT
END:VTIMEZONE
END:VCALENDAR
